Package: MetaNeighbor Version: 1.28.0 Command: /home/biocbuild/R/R/bin/R CMD build --keep-empty-dirs --no-resave-data MetaNeighbor StartedAt: 2025-10-14 02:16:12 -0000 (Tue, 14 Oct 2025) EndedAt: 2025-10-14 02:19:59 -0000 (Tue, 14 Oct 2025) EllapsedTime: 227.1 seconds RetCode: 0 Status: OK PackageFile: MetaNeighbor_1.28.0.tar.gz PackageFileSize: 3.184 MiB