Package: MetaCyto Version: 1.30.0 Command: /home/biocbuild/R/R/bin/R CMD INSTALL MetaCyto StartedAt: 2025-10-13 20:26:04 -0000 (Mon, 13 Oct 2025) EndedAt: 2025-10-13 20:26:23 -0000 (Mon, 13 Oct 2025) EllapsedTime: 19.3 seconds RetCode: 0 Status: OK