Package: MetaCyto Version: 1.30.0 Command: /home/biocbuild/R/R/bin/R CMD build --keep-empty-dirs --no-resave-data MetaCyto StartedAt: 2025-10-14 02:15:30 -0000 (Tue, 14 Oct 2025) EndedAt: 2025-10-14 02:22:13 -0000 (Tue, 14 Oct 2025) EllapsedTime: 403.1 seconds RetCode: 0 Status: OK PackageFile: MetaCyto_1.30.0.tar.gz PackageFileSize: 986.6 KiB