Package: MetNet Version: 1.26.4 Command: /home/biocbuild/R/R/bin/R CMD INSTALL MetNet StartedAt: 2025-10-13 20:47:18 -0000 (Mon, 13 Oct 2025) EndedAt: 2025-10-13 20:47:58 -0000 (Mon, 13 Oct 2025) EllapsedTime: 39.6 seconds RetCode: 0 Status: OK