Package: MetNet Version: 1.26.4 Command: /home/biocbuild/R/R/bin/R CMD build --keep-empty-dirs --no-resave-data MetNet StartedAt: 2025-10-14 02:24:46 -0000 (Tue, 14 Oct 2025) EndedAt: 2025-10-14 02:25:50 -0000 (Tue, 14 Oct 2025) EllapsedTime: 64.0 seconds RetCode: 0 Status: OK PackageFile: MetNet_1.26.4.tar.gz PackageFileSize: 4.131 MiB