Package: MetNet Version: 1.26.4 Maintainer: Thomas Naake MaintainerEmail: thomasnaake at googlemail.com git_url: https://git.bioconductor.org/packages/MetNet git_branch: RELEASE_3_21 git_last_commit: 8edea28 git_last_commit_date: 2025-10-10 16:18:14 -0400 (Fri, 10 Oct 2025)