Package: MetMashR Version: 1.2.1 Command: /home/biocbuild/R/R/bin/R CMD INSTALL MetMashR StartedAt: 2025-10-13 20:47:12 -0000 (Mon, 13 Oct 2025) EndedAt: 2025-10-13 20:48:01 -0000 (Mon, 13 Oct 2025) EllapsedTime: 49.0 seconds RetCode: 0 Status: OK