Package: MetMashR Version: 1.2.1 Command: /home/biocbuild/R/R/bin/R CMD build --keep-empty-dirs --no-resave-data MetMashR StartedAt: 2025-10-14 02:24:08 -0000 (Tue, 14 Oct 2025) EndedAt: 2025-10-14 02:30:52 -0000 (Tue, 14 Oct 2025) EllapsedTime: 404.1 seconds RetCode: 1 Status: ERROR PackageFile: None PackageFileSize: NA