Package: MetCirc Version: 1.38.0 Command: /home/biocbuild/R/R/bin/R CMD build --keep-empty-dirs --no-resave-data MetCirc StartedAt: 2025-10-14 02:17:07 -0000 (Tue, 14 Oct 2025) EndedAt: 2025-10-14 02:18:36 -0000 (Tue, 14 Oct 2025) EllapsedTime: 89.0 seconds RetCode: 0 Status: OK PackageFile: MetCirc_1.38.0.tar.gz PackageFileSize: 2.131 MiB