Package: MesKit Version: 1.18.0 Command: /home/biocbuild/bbs-3.21-bioc/R/bin/R CMD build --keep-empty-dirs --no-resave-data MesKit StartedAt: 2025-10-15 18:22:38 -0400 (Wed, 15 Oct 2025) EndedAt: 2025-10-15 18:24:10 -0400 (Wed, 15 Oct 2025) EllapsedTime: 92.1 seconds RetCode: 0 Status: OK PackageFile: MesKit_1.18.0.tar.gz PackageFileSize: 3.778 MiB