Package: MesKit Version: 1.18.0 Command: /Library/Frameworks/R.framework/Resources/bin/R CMD INSTALL MesKit StartedAt: 2025-10-13 15:52:47 -0400 (Mon, 13 Oct 2025) EndedAt: 2025-10-13 15:53:13 -0400 (Mon, 13 Oct 2025) EllapsedTime: 26.4 seconds RetCode: 0 Status: OK