Package: MesKit Version: 1.18.0 Command: /Library/Frameworks/R.framework/Resources/bin/R CMD build --keep-empty-dirs --no-resave-data MesKit StartedAt: 2025-10-14 03:41:46 -0400 (Tue, 14 Oct 2025) EndedAt: 2025-10-14 03:43:32 -0400 (Tue, 14 Oct 2025) EllapsedTime: 106.4 seconds RetCode: 0 Status: OK PackageFile: MesKit_1.18.0.tar.gz PackageFileSize: 4.029 MiB