Package: Mergeomics Version: 1.36.0 Command: /home/biocbuild/R/R/bin/R CMD INSTALL Mergeomics StartedAt: 2025-10-13 20:12:20 -0000 (Mon, 13 Oct 2025) EndedAt: 2025-10-13 20:12:34 -0000 (Mon, 13 Oct 2025) EllapsedTime: 13.2 seconds RetCode: 0 Status: OK