Package: Mergeomics Version: 1.36.0 Command: /home/biocbuild/R/R/bin/R CMD build --keep-empty-dirs --no-resave-data Mergeomics StartedAt: 2025-10-14 02:13:21 -0000 (Tue, 14 Oct 2025) EndedAt: 2025-10-14 02:28:35 -0000 (Tue, 14 Oct 2025) EllapsedTime: 914.2 seconds RetCode: 0 Status: OK PackageFile: Mergeomics_1.36.0.tar.gz PackageFileSize: 3.198 MiB