Package: MeasurementError.cor Version: 1.80.0 Command: chmod a+r MeasurementError.cor -R && E:\biocbuild\bbs-3.21-bioc\R\bin\R.exe CMD build --keep-empty-dirs --no-resave-data MeasurementError.cor StartedAt: 2025-08-14 20:13:42 -0400 (Thu, 14 Aug 2025) EndedAt: 2025-08-14 20:13:57 -0400 (Thu, 14 Aug 2025) EllapsedTime: 14.6 seconds RetCode: 0 Status: OK PackageFile: MeasurementError.cor_1.80.0.tar.gz PackageFileSize: 47.66 KiB