Package: MeasurementError.cor Version: 1.80.0 Command: /home/biocbuild/bbs-3.21-bioc/R/bin/R CMD INSTALL MeasurementError.cor StartedAt: 2025-10-15 15:02:28 -0400 (Wed, 15 Oct 2025) EndedAt: 2025-10-15 15:02:38 -0400 (Wed, 15 Oct 2025) EllapsedTime: 10.0 seconds RetCode: 0 Status: OK