Package: MeasurementError.cor Version: 1.80.0 Command: /home/biocbuild/bbs-3.21-bioc/R/bin/R CMD build --keep-empty-dirs --no-resave-data MeasurementError.cor StartedAt: 2025-10-15 18:21:29 -0400 (Wed, 15 Oct 2025) EndedAt: 2025-10-15 18:21:35 -0400 (Wed, 15 Oct 2025) EllapsedTime: 6.0 seconds RetCode: 0 Status: OK PackageFile: MeasurementError.cor_1.80.0.tar.gz PackageFileSize: 150.6 KiB