Package: MeasurementError.cor Version: 1.80.0 Command: /home/biocbuild/R/R/bin/R CMD INSTALL MeasurementError.cor StartedAt: 2025-10-13 20:13:15 -0000 (Mon, 13 Oct 2025) EndedAt: 2025-10-13 20:13:43 -0000 (Mon, 13 Oct 2025) EllapsedTime: 27.5 seconds RetCode: 0 Status: OK