Package: MeasurementError.cor Version: 1.80.0 Command: /home/biocbuild/R/R/bin/R CMD build --keep-empty-dirs --no-resave-data MeasurementError.cor StartedAt: 2025-10-14 02:12:27 -0000 (Tue, 14 Oct 2025) EndedAt: 2025-10-14 02:12:34 -0000 (Tue, 14 Oct 2025) EllapsedTime: 7.0 seconds RetCode: 0 Status: OK PackageFile: MeasurementError.cor_1.80.0.tar.gz PackageFileSize: 145.8 KiB