Package: MeasurementError.cor Version: 1.80.0 Command: /Library/Frameworks/R.framework/Resources/bin/R CMD INSTALL MeasurementError.cor StartedAt: 2025-10-13 15:09:14 -0400 (Mon, 13 Oct 2025) EndedAt: 2025-10-13 15:09:17 -0400 (Mon, 13 Oct 2025) EllapsedTime: 3.1 seconds RetCode: 0 Status: OK