Package: MeasurementError.cor Version: 1.80.0 Command: /Library/Frameworks/R.framework/Resources/bin/R CMD build --keep-empty-dirs --no-resave-data MeasurementError.cor StartedAt: 2025-10-14 03:37:20 -0400 (Tue, 14 Oct 2025) EndedAt: 2025-10-14 03:37:33 -0400 (Tue, 14 Oct 2025) EllapsedTime: 12.3 seconds RetCode: 0 Status: OK PackageFile: MeasurementError.cor_1.80.0.tar.gz PackageFileSize: 150.7 KiB