Package: MatrixQCvis Version: 1.16.0 Command: /home/biocbuild/R/R/bin/R CMD INSTALL MatrixQCvis StartedAt: 2025-10-13 20:51:31 -0000 (Mon, 13 Oct 2025) EndedAt: 2025-10-13 20:52:28 -0000 (Mon, 13 Oct 2025) EllapsedTime: 57.2 seconds RetCode: 0 Status: OK