Package: MatrixQCvis Version: 1.16.0 Command: /home/biocbuild/R/R/bin/R CMD build --keep-empty-dirs --no-resave-data MatrixQCvis StartedAt: 2025-10-14 02:09:17 -0000 (Tue, 14 Oct 2025) EndedAt: 2025-10-14 02:10:41 -0000 (Tue, 14 Oct 2025) EllapsedTime: 84.0 seconds RetCode: 1 Status: ERROR PackageFile: None PackageFileSize: NA