Package: MatrixGenerics Version: 1.20.0 Command: rm -rf MatrixGenerics.buildbin-libdir && mkdir MatrixGenerics.buildbin-libdir && /Users/biocbuild/BBS/utils/build-universal.sh MatrixGenerics_1.20.0.tar.gz /Library/Frameworks/R.framework/Resources/bin/R MatrixGenerics.buildbin-libdir StartedAt: 2025-10-14 13:55:46 -0400 (Tue, 14 Oct 2025) EndedAt: 2025-10-14 13:56:05 -0400 (Tue, 14 Oct 2025) EllapsedTime: 18.3 seconds RetCode: 0 Status: OK PackageFile: MatrixGenerics_1.20.0.tgz PackageFileSize: 447.3 KiB