Package: MatrixGenerics Version: 1.20.0 Command: /home/biocbuild/R/R/bin/R CMD INSTALL MatrixGenerics StartedAt: 2025-10-13 20:14:31 -0000 (Mon, 13 Oct 2025) EndedAt: 2025-10-13 20:15:00 -0000 (Mon, 13 Oct 2025) EllapsedTime: 28.6 seconds RetCode: 0 Status: OK