Package: MatrixGenerics Version: 1.20.0 Command: rm -rf MatrixGenerics.buildbin-libdir && mkdir MatrixGenerics.buildbin-libdir && /Users/biocbuild/BBS/utils/build-universal.sh MatrixGenerics_1.20.0.tar.gz /Library/Frameworks/R.framework/Resources/bin/R MatrixGenerics.buildbin-libdir StartedAt: 2025-10-15 19:09:23 -0400 (Wed, 15 Oct 2025) EndedAt: 2025-10-15 19:09:30 -0400 (Wed, 15 Oct 2025) EllapsedTime: 7.0 seconds RetCode: 0 Status: OK PackageFile: MatrixGenerics_1.20.0.tgz PackageFileSize: 446.7 KiB