Package: MassSpecWavelet Version: 1.74.0 Command: /home/biocbuild/bbs-3.21-bioc/R/bin/R CMD build --keep-empty-dirs --no-resave-data MassSpecWavelet StartedAt: 2025-10-15 18:19:01 -0400 (Wed, 15 Oct 2025) EndedAt: 2025-10-15 18:19:46 -0400 (Wed, 15 Oct 2025) EllapsedTime: 45.0 seconds RetCode: 0 Status: OK PackageFile: MassSpecWavelet_1.74.0.tar.gz PackageFileSize: 2.168 MiB