Package: MassSpecWavelet Version: 1.74.0 Command: /home/biocbuild/R/R/bin/R CMD INSTALL MassSpecWavelet StartedAt: 2025-10-13 20:12:20 -0000 (Mon, 13 Oct 2025) EndedAt: 2025-10-13 20:12:28 -0000 (Mon, 13 Oct 2025) EllapsedTime: 7.9 seconds RetCode: 0 Status: OK