Package: MassSpecWavelet Version: 1.74.0 Command: /Library/Frameworks/R.framework/Resources/bin/R CMD build --keep-empty-dirs --no-resave-data MassSpecWavelet StartedAt: 2025-10-14 03:29:44 -0400 (Tue, 14 Oct 2025) EndedAt: 2025-10-14 03:30:53 -0400 (Tue, 14 Oct 2025) EllapsedTime: 68.3 seconds RetCode: 0 Status: OK PackageFile: MassSpecWavelet_1.74.0.tar.gz PackageFileSize: 2.087 MiB