Package: MassArray Version: 1.60.0 Command: /home/biocbuild/bbs-3.21-bioc/R/bin/R CMD build --keep-empty-dirs --no-resave-data MassArray StartedAt: 2025-10-15 18:18:51 -0400 (Wed, 15 Oct 2025) EndedAt: 2025-10-15 18:19:14 -0400 (Wed, 15 Oct 2025) EllapsedTime: 23.0 seconds RetCode: 0 Status: OK PackageFile: MassArray_1.60.0.tar.gz PackageFileSize: 375.1 KiB