Package: MassArray Version: 1.60.0 Command: /home/biocbuild/R/R/bin/R CMD build --keep-empty-dirs --no-resave-data MassArray StartedAt: 2025-10-14 02:07:50 -0000 (Tue, 14 Oct 2025) EndedAt: 2025-10-14 02:08:22 -0000 (Tue, 14 Oct 2025) EllapsedTime: 32.0 seconds RetCode: 0 Status: OK PackageFile: MassArray_1.60.0.tar.gz PackageFileSize: 369.3 KiB