Package: Macarron Version: 1.12.2 Command: /home/biocbuild/R/R/bin/R CMD INSTALL Macarron StartedAt: 2025-10-13 21:05:31 -0000 (Mon, 13 Oct 2025) EndedAt: 2025-10-13 21:06:01 -0000 (Mon, 13 Oct 2025) EllapsedTime: 29.2 seconds RetCode: 0 Status: OK