Package: Macarron Version: 1.12.2 Command: /home/biocbuild/R/R/bin/R CMD build --keep-empty-dirs --no-resave-data Macarron StartedAt: 2025-10-14 02:03:32 -0000 (Tue, 14 Oct 2025) EndedAt: 2025-10-14 02:13:18 -0000 (Tue, 14 Oct 2025) EllapsedTime: 586.2 seconds RetCode: 1 Status: ERROR PackageFile: None PackageFileSize: NA