Package: MVCClass Version: 1.82.0 Command: rm -rf MVCClass.buildbin-libdir && mkdir MVCClass.buildbin-libdir && /Users/biocbuild/BBS/utils/build-universal.sh MVCClass_1.82.0.tar.gz /Library/Frameworks/R.framework/Resources/bin/R MVCClass.buildbin-libdir StartedAt: 2025-10-15 19:33:33 -0400 (Wed, 15 Oct 2025) EndedAt: 2025-10-15 19:33:40 -0400 (Wed, 15 Oct 2025) EllapsedTime: 6.7 seconds RetCode: 0 Status: OK PackageFile: MVCClass_1.82.0.tgz PackageFileSize: 1.229 MiB