Package: MSstatsShiny Version: 1.10.0 Command: /home/biocbuild/R/R/bin/R CMD INSTALL MSstatsShiny StartedAt: 2025-10-13 20:41:57 -0000 (Mon, 13 Oct 2025) EndedAt: 2025-10-13 20:42:37 -0000 (Mon, 13 Oct 2025) EllapsedTime: 39.6 seconds RetCode: 0 Status: OK