Package: MSstatsShiny Version: 1.10.0 Command: /home/biocbuild/R/R/bin/R CMD build --keep-empty-dirs --no-resave-data MSstatsShiny StartedAt: 2025-10-14 02:54:47 -0000 (Tue, 14 Oct 2025) EndedAt: 2025-10-14 02:55:43 -0000 (Tue, 14 Oct 2025) EllapsedTime: 56.0 seconds RetCode: 0 Status: OK PackageFile: MSstatsShiny_1.10.0.tar.gz PackageFileSize: 2.161 MiB