Package: MSstatsQCgui Version: 1.28.0 Command: /home/biocbuild/R/R/bin/R CMD build --keep-empty-dirs --no-resave-data MSstatsQCgui StartedAt: 2025-10-14 02:54:44 -0000 (Tue, 14 Oct 2025) EndedAt: 2025-10-14 02:55:40 -0000 (Tue, 14 Oct 2025) EllapsedTime: 56.0 seconds RetCode: 0 Status: OK PackageFile: MSstatsQCgui_1.28.0.tar.gz PackageFileSize: 75.99 KiB