Package: MSstatsQC Version: 2.26.0 Command: /Library/Frameworks/R.framework/Resources/bin/R CMD INSTALL MSstatsQC StartedAt: 2025-10-13 17:04:43 -0400 (Mon, 13 Oct 2025) EndedAt: 2025-10-13 17:05:30 -0400 (Mon, 13 Oct 2025) EllapsedTime: 46.9 seconds RetCode: 0 Status: OK