Package: MSstatsLiP Version: 1.14.2 Command: /home/biocbuild/R/R/bin/R CMD build --keep-empty-dirs --no-resave-data MSstatsLiP StartedAt: 2025-10-14 02:53:57 -0000 (Tue, 14 Oct 2025) EndedAt: 2025-10-14 02:55:12 -0000 (Tue, 14 Oct 2025) EllapsedTime: 75.1 seconds RetCode: 0 Status: OK PackageFile: MSstatsLiP_1.14.2.tar.gz PackageFileSize: 1.737 MiB