Package: MSstatsBioNet Version: 1.0.0 Command: /Library/Frameworks/R.framework/Resources/bin/R CMD INSTALL MSstatsBioNet StartedAt: 2025-10-13 15:27:05 -0400 (Mon, 13 Oct 2025) EndedAt: 2025-10-13 15:27:28 -0400 (Mon, 13 Oct 2025) EllapsedTime: 22.9 seconds RetCode: 0 Status: OK