Package: MSstatsBioNet Version: 1.0.0 Command: /Library/Frameworks/R.framework/Resources/bin/R CMD build --keep-empty-dirs --no-resave-data MSstatsBioNet StartedAt: 2025-10-13 20:56:26 -0400 (Mon, 13 Oct 2025) EndedAt: 2025-10-13 20:57:24 -0400 (Mon, 13 Oct 2025) EllapsedTime: 57.6 seconds RetCode: 1 Status: ERROR PackageFile: None PackageFileSize: NA