Package: MSstatsBioNet Version: 1.0.0 Command: /Library/Frameworks/R.framework/Resources/bin/R CMD INSTALL MSstatsBioNet StartedAt: 2025-10-13 18:28:55 -0400 (Mon, 13 Oct 2025) EndedAt: 2025-10-13 18:29:11 -0400 (Mon, 13 Oct 2025) EllapsedTime: 16.4 seconds RetCode: 0 Status: OK