Package: MSstatsBioNet Version: 1.0.0 Command: /Library/Frameworks/R.framework/Resources/bin/R CMD build --keep-empty-dirs --no-resave-data MSstatsBioNet StartedAt: 2025-10-14 05:13:29 -0400 (Tue, 14 Oct 2025) EndedAt: 2025-10-14 05:14:02 -0400 (Tue, 14 Oct 2025) EllapsedTime: 32.8 seconds RetCode: 1 Status: ERROR PackageFile: None PackageFileSize: NA