Package: MSstatsBig Version: 1.6.0 Command: /home/biocbuild/bbs-3.21-bioc/R/bin/R CMD build --keep-empty-dirs --no-resave-data MSstatsBig StartedAt: 2025-10-15 18:44:50 -0400 (Wed, 15 Oct 2025) EndedAt: 2025-10-15 18:45:08 -0400 (Wed, 15 Oct 2025) EllapsedTime: 18.0 seconds RetCode: 0 Status: OK PackageFile: MSstatsBig_1.6.0.tar.gz PackageFileSize: 70.35 KiB