Package: MSstats Version: 4.16.1 Command: /home/biocbuild/R/R/bin/R CMD INSTALL MSstats StartedAt: 2025-10-13 20:22:59 -0000 (Mon, 13 Oct 2025) EndedAt: 2025-10-13 20:24:07 -0000 (Mon, 13 Oct 2025) EllapsedTime: 68.0 seconds RetCode: 0 Status: OK