Package: MSstats Version: 4.16.1 Command: /home/biocbuild/R/R/bin/R CMD build --keep-empty-dirs --no-resave-data MSstats StartedAt: 2025-10-14 02:52:52 -0000 (Tue, 14 Oct 2025) EndedAt: 2025-10-14 02:54:44 -0000 (Tue, 14 Oct 2025) EllapsedTime: 112.1 seconds RetCode: 0 Status: OK PackageFile: MSstats_4.16.1.tar.gz PackageFileSize: 398.1 KiB