Package: MSnbase Version: 2.34.1 Command: /Library/Frameworks/R.framework/Resources/bin/R CMD build --keep-empty-dirs --no-resave-data MSnbase StartedAt: 2025-10-13 20:54:17 -0400 (Mon, 13 Oct 2025) EndedAt: 2025-10-13 21:01:37 -0400 (Mon, 13 Oct 2025) EllapsedTime: 439.6 seconds RetCode: 0 Status: OK PackageFile: MSnbase_2.34.1.tar.gz PackageFileSize: 7.482 MiB