Package: MSnbase Version: 2.34.1 Command: rm -rf MSnbase.buildbin-libdir && mkdir MSnbase.buildbin-libdir && /Users/biocbuild/BBS/utils/build-universal.sh MSnbase_2.34.1.tar.gz /Library/Frameworks/R.framework/Resources/bin/R MSnbase.buildbin-libdir StartedAt: 2025-10-14 14:10:58 -0400 (Tue, 14 Oct 2025) EndedAt: 2025-10-14 14:15:26 -0400 (Tue, 14 Oct 2025) EllapsedTime: 268.0 seconds RetCode: 0 Status: OK PackageFile: MSnbase_2.34.1.tgz PackageFileSize: 8.926 MiB