Package: MSA2dist Version: 1.12.0 Command: /home/biocbuild/R/R/bin/R CMD INSTALL MSA2dist StartedAt: 2025-10-13 21:07:18 -0000 (Mon, 13 Oct 2025) EndedAt: 2025-10-13 21:09:11 -0000 (Mon, 13 Oct 2025) EllapsedTime: 113.3 seconds RetCode: 0 Status: OK