Package: MSA2dist Version: 1.12.0 Command: /home/biocbuild/R/R/bin/R CMD build --keep-empty-dirs --no-resave-data MSA2dist StartedAt: 2025-10-14 02:48:11 -0000 (Tue, 14 Oct 2025) EndedAt: 2025-10-14 02:50:34 -0000 (Tue, 14 Oct 2025) EllapsedTime: 143.1 seconds RetCode: 0 Status: OK PackageFile: MSA2dist_1.12.0.tar.gz PackageFileSize: 891.3 KiB